BEGIN:VCALENDAR
VERSION:2.0
BEGIN:VEVENT
URL:https://wheatsheafhotel.oztix.com.au/outlet/event/bb9286cd-9883-4854-b537-1b2f25bacc94
DTSTART:20260521T090000Z
DTEND:20260521T090000Z
SUMMARY:Things of Stone & Wood
DESCRIPTION:Event details: https://wheatsheafhotel.oztix.com.au/outlet/event/bb9286cd-9883-4854-b537-1b2f25bacc94
LOCATION:The Wheatsheaf Hotel (Thebarton, SA)
END:VEVENT
END:VCALENDAR